BEGIN:VCALENDAR
VERSION:2.0
PRODID:-//Harmonie Vents d&#039;Ouest - ECPv6.15.20//NONSGML v1.0//EN
CALSCALE:GREGORIAN
METHOD:PUBLISH
X-ORIGINAL-URL:https://harmonieventsdouest.fr
X-WR-CALDESC:Évènements pour Harmonie Vents d&#039;Ouest
REFRESH-INTERVAL;VALUE=DURATION:PT1H
X-Robots-Tag:noindex
X-PUBLISHED-TTL:PT1H
BEGIN:VTIMEZONE
TZID:Europe/Paris
BEGIN:DAYLIGHT
TZOFFSETFROM:+0100
TZOFFSETTO:+0200
TZNAME:CEST
DTSTART:20250330T010000
END:DAYLIGHT
BEGIN:STANDARD
TZOFFSETFROM:+0200
TZOFFSETTO:+0100
TZNAME:CET
DTSTART:20251026T010000
END:STANDARD
BEGIN:DAYLIGHT
TZOFFSETFROM:+0100
TZOFFSETTO:+0200
TZNAME:CEST
DTSTART:20260329T010000
END:DAYLIGHT
BEGIN:STANDARD
TZOFFSETFROM:+0200
TZOFFSETTO:+0100
TZNAME:CET
DTSTART:20261025T010000
END:STANDARD
BEGIN:DAYLIGHT
TZOFFSETFROM:+0100
TZOFFSETTO:+0200
TZNAME:CEST
DTSTART:20270328T010000
END:DAYLIGHT
BEGIN:STANDARD
TZOFFSETFROM:+0200
TZOFFSETTO:+0100
TZNAME:CET
DTSTART:20271031T010000
END:STANDARD
END:VTIMEZONE
BEGIN:VEVENT
DTSTART;TZID=Europe/Paris:20260508T094500
DTEND;TZID=Europe/Paris:20260508T123000
DTSTAMP:20260423T203618
CREATED:20260414T124830Z
LAST-MODIFIED:20260414T124838Z
UID:1535-1778233500-1778243400@harmonieventsdouest.fr
SUMMARY:Cérémonie du 8 mai
DESCRIPTION:Commémorations du 8 mai 1945 sur la commune de Chancelade et ensuite Razac sur l’Isle
URL:https://harmonieventsdouest.fr/event/ceremonie-du-8-mai-2026/
CATEGORIES:Cérémonies
ATTACH;FMTTYPE=image/jpeg:https://harmonieventsdouest.fr/wp-content/uploads/2026/04/a-monument-in-france-displaying-multiple-flags-under-a-clear-blue-sky.-17613591-scaled-e1776170655312.jpg
END:VEVENT
END:VCALENDAR